BEGIN:VCALENDAR
VERSION:2.0
PRODID:-//Baleville Congregational Christian Church - ECPv6.15.20//NONSGML v1.0//EN
CALSCALE:GREGORIAN
METHOD:PUBLISH
X-ORIGINAL-URL:https://baleville.com
X-WR-CALDESC:Events for Baleville Congregational Christian Church
REFRESH-INTERVAL;VALUE=DURATION:PT1H
X-Robots-Tag:noindex
X-PUBLISHED-TTL:PT1H
BEGIN:VTIMEZONE
TZID:America/New_York
BEGIN:DAYLIGHT
TZOFFSETFROM:-0500
TZOFFSETTO:-0400
TZNAME:EDT
DTSTART:20220313T070000
END:DAYLIGHT
BEGIN:STANDARD
TZOFFSETFROM:-0400
TZOFFSETTO:-0500
TZNAME:EST
DTSTART:20221106T060000
END:STANDARD
BEGIN:DAYLIGHT
TZOFFSETFROM:-0500
TZOFFSETTO:-0400
TZNAME:EDT
DTSTART:20230312T070000
END:DAYLIGHT
BEGIN:STANDARD
TZOFFSETFROM:-0400
TZOFFSETTO:-0500
TZNAME:EST
DTSTART:20231105T060000
END:STANDARD
BEGIN:DAYLIGHT
TZOFFSETFROM:-0500
TZOFFSETTO:-0400
TZNAME:EDT
DTSTART:20240310T070000
END:DAYLIGHT
BEGIN:STANDARD
TZOFFSETFROM:-0400
TZOFFSETTO:-0500
TZNAME:EST
DTSTART:20241103T060000
END:STANDARD
END:VTIMEZONE
BEGIN:VEVENT
DTSTART;TZID=America/New_York:20230503T100000
DTEND;TZID=America/New_York:20230503T113000
DTSTAMP:20260423T030831
CREATED:20230224T162706Z
LAST-MODIFIED:20230224T164432Z
UID:5084-1683108000-1683113400@baleville.com
SUMMARY:Digging Deeper
DESCRIPTION:Every Wednesday morning at 10:00 am\, all are welcome to join Pastor Brian to further discuss the sermon from Sunday morning.  Please bring your thoughts and questions as we apply truths from God’s word to our everyday lives.  Our hope is that we are able to encourage one another and end our time praying for various needs within our church family.
URL:https://baleville.com/event/digging-deeper-46-2023-05-03/
ATTACH;FMTTYPE=image/jpeg:https://baleville.com/wp-content/uploads/2022/01/digging-deeper-2-e1641944538635.jpg
END:VEVENT
BEGIN:VEVENT
DTSTART;TZID=America/New_York:20230505T183000
DTEND;TZID=America/New_York:20230505T200000
DTSTAMP:20260423T030831
CREATED:20230224T163308Z
LAST-MODIFIED:20230224T163308Z
UID:5184-1683311400-1683316800@baleville.com
SUMMARY:Kidz Club
DESCRIPTION:Our goal at Kidz Club is to help children grow in their knowledge of God and his Word.  We do that through Bible memory\, active games\, a group lesson\, and songs.  All kids ages Kindergarten – 6th grade are welcome!
URL:https://baleville.com/event/kidz-club-15-2023-05-05/
ATTACH;FMTTYPE=image/png:https://baleville.com/wp-content/uploads/2022/12/kidz-club3-e1670435304965.png
END:VEVENT
BEGIN:VEVENT
DTSTART;TZID=America/New_York:20230506T070000
DTEND;TZID=America/New_York:20230506T083000
DTSTAMP:20260423T030831
CREATED:20230224T164625Z
LAST-MODIFIED:20230602T184551Z
UID:5195-1683356400-1683361800@baleville.com
SUMMARY:Men's Discipleship Group
DESCRIPTION:As men\, we need to let the truths of God’s word lead us to find our ultimate satisfaction in Christ.  When we do that\, we will experience true joy and fulfillment in other areas.  Join us for an in-depth study of God’s Word as we learn more about what it means to be followers of Jesus. Led by Pastor Brian.
URL:https://baleville.com/event/mens-discipleship-group-28-2023-05-06/
ATTACH;FMTTYPE=image/jpeg:https://baleville.com/wp-content/uploads/2022/01/mens-discipleship-group-e1641934865727.jpg
END:VEVENT
BEGIN:VEVENT
DTSTART;TZID=America/New_York:20230510T100000
DTEND;TZID=America/New_York:20230510T113000
DTSTAMP:20260423T030831
CREATED:20230224T162706Z
LAST-MODIFIED:20230224T164432Z
UID:5085-1683712800-1683718200@baleville.com
SUMMARY:Digging Deeper
DESCRIPTION:Every Wednesday morning at 10:00 am\, all are welcome to join Pastor Brian to further discuss the sermon from Sunday morning.  Please bring your thoughts and questions as we apply truths from God’s word to our everyday lives.  Our hope is that we are able to encourage one another and end our time praying for various needs within our church family.
URL:https://baleville.com/event/digging-deeper-46-2023-05-10/
ATTACH;FMTTYPE=image/jpeg:https://baleville.com/wp-content/uploads/2022/01/digging-deeper-2-e1641944538635.jpg
END:VEVENT
BEGIN:VEVENT
DTSTART;TZID=America/New_York:20230512T183000
DTEND;TZID=America/New_York:20230512T200000
DTSTAMP:20260423T030831
CREATED:20230224T163308Z
LAST-MODIFIED:20230224T163308Z
UID:5185-1683916200-1683921600@baleville.com
SUMMARY:Kidz Club
DESCRIPTION:Our goal at Kidz Club is to help children grow in their knowledge of God and his Word.  We do that through Bible memory\, active games\, a group lesson\, and songs.  All kids ages Kindergarten – 6th grade are welcome!
URL:https://baleville.com/event/kidz-club-15-2023-05-12/
ATTACH;FMTTYPE=image/png:https://baleville.com/wp-content/uploads/2022/12/kidz-club3-e1670435304965.png
END:VEVENT
BEGIN:VEVENT
DTSTART;TZID=America/New_York:20230513T070000
DTEND;TZID=America/New_York:20230513T083000
DTSTAMP:20260423T030831
CREATED:20230224T164625Z
LAST-MODIFIED:20230602T184551Z
UID:5196-1683961200-1683966600@baleville.com
SUMMARY:Men's Discipleship Group
DESCRIPTION:As men\, we need to let the truths of God’s word lead us to find our ultimate satisfaction in Christ.  When we do that\, we will experience true joy and fulfillment in other areas.  Join us for an in-depth study of God’s Word as we learn more about what it means to be followers of Jesus. Led by Pastor Brian.
URL:https://baleville.com/event/mens-discipleship-group-28-2023-05-13/
ATTACH;FMTTYPE=image/jpeg:https://baleville.com/wp-content/uploads/2022/01/mens-discipleship-group-e1641934865727.jpg
END:VEVENT
BEGIN:VEVENT
DTSTART;TZID=America/New_York:20230517T100000
DTEND;TZID=America/New_York:20230517T113000
DTSTAMP:20260423T030831
CREATED:20230224T162706Z
LAST-MODIFIED:20230224T164441Z
UID:5086-1684317600-1684323000@baleville.com
SUMMARY:Digging Deeper
DESCRIPTION:Every Wednesday morning at 10:00 am\, all are welcome to join Pastor Brian to further discuss the sermon from Sunday morning.  Please bring your thoughts and questions as we apply truths from God’s word to our everyday lives.  Our hope is that we are able to encourage one another and end our time praying for various needs within our church family.
URL:https://baleville.com/event/digging-deeper-46-2023-05-17/
ATTACH;FMTTYPE=image/jpeg:https://baleville.com/wp-content/uploads/2022/01/digging-deeper-2-e1641944538635.jpg
END:VEVENT
BEGIN:VEVENT
DTSTART;TZID=America/New_York:20230519T183000
DTEND;TZID=America/New_York:20230519T200000
DTSTAMP:20260423T030831
CREATED:20230224T163308Z
LAST-MODIFIED:20230224T163308Z
UID:5186-1684521000-1684526400@baleville.com
SUMMARY:Kidz Club
DESCRIPTION:Our goal at Kidz Club is to help children grow in their knowledge of God and his Word.  We do that through Bible memory\, active games\, a group lesson\, and songs.  All kids ages Kindergarten – 6th grade are welcome!
URL:https://baleville.com/event/kidz-club-15-2023-05-19/
ATTACH;FMTTYPE=image/png:https://baleville.com/wp-content/uploads/2022/12/kidz-club3-e1670435304965.png
END:VEVENT
BEGIN:VEVENT
DTSTART;TZID=America/New_York:20230520T070000
DTEND;TZID=America/New_York:20230520T083000
DTSTAMP:20260423T030831
CREATED:20230224T164625Z
LAST-MODIFIED:20230602T184556Z
UID:5197-1684566000-1684571400@baleville.com
SUMMARY:Men's Discipleship Group
DESCRIPTION:As men\, we need to let the truths of God’s word lead us to find our ultimate satisfaction in Christ.  When we do that\, we will experience true joy and fulfillment in other areas.  Join us for an in-depth study of God’s Word as we learn more about what it means to be followers of Jesus. Led by Pastor Brian.
URL:https://baleville.com/event/mens-discipleship-group-28-2023-05-20/
ATTACH;FMTTYPE=image/jpeg:https://baleville.com/wp-content/uploads/2022/01/mens-discipleship-group-e1641934865727.jpg
END:VEVENT
BEGIN:VEVENT
DTSTART;TZID=America/New_York:20230524T100000
DTEND;TZID=America/New_York:20230524T113000
DTSTAMP:20260423T030831
CREATED:20230224T162706Z
LAST-MODIFIED:20230224T164442Z
UID:5087-1684922400-1684927800@baleville.com
SUMMARY:Digging Deeper
DESCRIPTION:Every Wednesday morning at 10:00 am\, all are welcome to join Pastor Brian to further discuss the sermon from Sunday morning.  Please bring your thoughts and questions as we apply truths from God’s word to our everyday lives.  Our hope is that we are able to encourage one another and end our time praying for various needs within our church family.
URL:https://baleville.com/event/digging-deeper-46-2023-05-24/
ATTACH;FMTTYPE=image/jpeg:https://baleville.com/wp-content/uploads/2022/01/digging-deeper-2-e1641944538635.jpg
END:VEVENT
BEGIN:VEVENT
DTSTART;TZID=America/New_York:20230527T070000
DTEND;TZID=America/New_York:20230527T083000
DTSTAMP:20260423T030831
CREATED:20230224T164625Z
LAST-MODIFIED:20230602T184557Z
UID:5198-1685170800-1685176200@baleville.com
SUMMARY:Men's Discipleship Group
DESCRIPTION:As men\, we need to let the truths of God’s word lead us to find our ultimate satisfaction in Christ.  When we do that\, we will experience true joy and fulfillment in other areas.  Join us for an in-depth study of God’s Word as we learn more about what it means to be followers of Jesus. Led by Pastor Brian.
URL:https://baleville.com/event/mens-discipleship-group-28-2023-05-27/
ATTACH;FMTTYPE=image/jpeg:https://baleville.com/wp-content/uploads/2022/01/mens-discipleship-group-e1641934865727.jpg
END:VEVENT
BEGIN:VEVENT
DTSTART;TZID=America/New_York:20230531T100000
DTEND;TZID=America/New_York:20230531T113000
DTSTAMP:20260423T030831
CREATED:20230224T162706Z
LAST-MODIFIED:20240918T151015Z
UID:5088-1685527200-1685532600@baleville.com
SUMMARY:Digging Deeper
DESCRIPTION:Every Wednesday morning at 10:00 am\, all are welcome to join Pastor Brian to further discuss the sermon from Sunday morning.  Please bring your thoughts and questions as we apply truths from God’s word to our everyday lives.  Our hope is that we are able to encourage one another and end our time praying for various needs within our church family.
URL:https://baleville.com/event/digging-deeper-46-2023-05-31/
ATTACH;FMTTYPE=image/jpeg:https://baleville.com/wp-content/uploads/2022/01/digging-deeper-2-e1641944538635.jpg
END:VEVENT
END:VCALENDAR