BEGIN:VCALENDAR
VERSION:2.0
PRODID:-//Baleville Congregational Christian Church - ECPv6.15.20//NONSGML v1.0//EN
CALSCALE:GREGORIAN
METHOD:PUBLISH
X-WR-CALNAME:Baleville Congregational Christian Church
X-ORIGINAL-URL:https://baleville.com
X-WR-CALDESC:Events for Baleville Congregational Christian Church
REFRESH-INTERVAL;VALUE=DURATION:PT1H
X-Robots-Tag:noindex
X-PUBLISHED-TTL:PT1H
BEGIN:VTIMEZONE
TZID:America/New_York
BEGIN:DAYLIGHT
TZOFFSETFROM:-0500
TZOFFSETTO:-0400
TZNAME:EDT
DTSTART:20220313T070000
END:DAYLIGHT
BEGIN:STANDARD
TZOFFSETFROM:-0400
TZOFFSETTO:-0500
TZNAME:EST
DTSTART:20221106T060000
END:STANDARD
BEGIN:DAYLIGHT
TZOFFSETFROM:-0500
TZOFFSETTO:-0400
TZNAME:EDT
DTSTART:20230312T070000
END:DAYLIGHT
BEGIN:STANDARD
TZOFFSETFROM:-0400
TZOFFSETTO:-0500
TZNAME:EST
DTSTART:20231105T060000
END:STANDARD
BEGIN:DAYLIGHT
TZOFFSETFROM:-0500
TZOFFSETTO:-0400
TZNAME:EDT
DTSTART:20240310T070000
END:DAYLIGHT
BEGIN:STANDARD
TZOFFSETFROM:-0400
TZOFFSETTO:-0500
TZNAME:EST
DTSTART:20241103T060000
END:STANDARD
END:VTIMEZONE
BEGIN:VEVENT
DTSTART;TZID=America/New_York:20230401T070000
DTEND;TZID=America/New_York:20230401T083000
DTSTAMP:20260422T220835
CREATED:20230224T164625Z
LAST-MODIFIED:20230602T184538Z
UID:5191-1680332400-1680337800@baleville.com
SUMMARY:Men's Discipleship Group
DESCRIPTION:As men\, we need to let the truths of God’s word lead us to find our ultimate satisfaction in Christ.  When we do that\, we will experience true joy and fulfillment in other areas.  Join us for an in-depth study of God’s Word as we learn more about what it means to be followers of Jesus. Led by Pastor Brian.
URL:https://baleville.com/event/mens-discipleship-group-28-2023-04-01/
ATTACH;FMTTYPE=image/jpeg:https://baleville.com/wp-content/uploads/2022/01/mens-discipleship-group-e1641934865727.jpg
END:VEVENT
BEGIN:VEVENT
DTSTART;TZID=America/New_York:20230412T100000
DTEND;TZID=America/New_York:20230412T113000
DTSTAMP:20260422T220835
CREATED:20230224T162706Z
LAST-MODIFIED:20230224T164430Z
UID:5081-1681293600-1681299000@baleville.com
SUMMARY:Digging Deeper
DESCRIPTION:Every Wednesday morning at 10:00 am\, all are welcome to join Pastor Brian to further discuss the sermon from Sunday morning.  Please bring your thoughts and questions as we apply truths from God’s word to our everyday lives.  Our hope is that we are able to encourage one another and end our time praying for various needs within our church family.
URL:https://baleville.com/event/digging-deeper-46-2023-04-12/
ATTACH;FMTTYPE=image/jpeg:https://baleville.com/wp-content/uploads/2022/01/digging-deeper-2-e1641944538635.jpg
END:VEVENT
BEGIN:VEVENT
DTSTART;TZID=America/New_York:20230415T070000
DTEND;TZID=America/New_York:20230415T083000
DTSTAMP:20260422T220835
CREATED:20230224T164625Z
LAST-MODIFIED:20230602T184539Z
UID:5192-1681542000-1681547400@baleville.com
SUMMARY:Men's Discipleship Group
DESCRIPTION:As men\, we need to let the truths of God’s word lead us to find our ultimate satisfaction in Christ.  When we do that\, we will experience true joy and fulfillment in other areas.  Join us for an in-depth study of God’s Word as we learn more about what it means to be followers of Jesus. Led by Pastor Brian.
URL:https://baleville.com/event/mens-discipleship-group-28-2023-04-15/
ATTACH;FMTTYPE=image/jpeg:https://baleville.com/wp-content/uploads/2022/01/mens-discipleship-group-e1641934865727.jpg
END:VEVENT
BEGIN:VEVENT
DTSTART;TZID=America/New_York:20230419T100000
DTEND;TZID=America/New_York:20230419T113000
DTSTAMP:20260422T220835
CREATED:20230224T162706Z
LAST-MODIFIED:20230224T164431Z
UID:5082-1681898400-1681903800@baleville.com
SUMMARY:Digging Deeper
DESCRIPTION:Every Wednesday morning at 10:00 am\, all are welcome to join Pastor Brian to further discuss the sermon from Sunday morning.  Please bring your thoughts and questions as we apply truths from God’s word to our everyday lives.  Our hope is that we are able to encourage one another and end our time praying for various needs within our church family.
URL:https://baleville.com/event/digging-deeper-46-2023-04-19/
ATTACH;FMTTYPE=image/jpeg:https://baleville.com/wp-content/uploads/2022/01/digging-deeper-2-e1641944538635.jpg
END:VEVENT
BEGIN:VEVENT
DTSTART;TZID=America/New_York:20230421T183000
DTEND;TZID=America/New_York:20230421T200000
DTSTAMP:20260422T220835
CREATED:20230224T163308Z
LAST-MODIFIED:20230224T163308Z
UID:5182-1682101800-1682107200@baleville.com
SUMMARY:Kidz Club
DESCRIPTION:Our goal at Kidz Club is to help children grow in their knowledge of God and his Word.  We do that through Bible memory\, active games\, a group lesson\, and songs.  All kids ages Kindergarten – 6th grade are welcome!
URL:https://baleville.com/event/kidz-club-15-2023-04-21/
ATTACH;FMTTYPE=image/png:https://baleville.com/wp-content/uploads/2022/12/kidz-club3-e1670435304965.png
END:VEVENT
BEGIN:VEVENT
DTSTART;TZID=America/New_York:20230422T070000
DTEND;TZID=America/New_York:20230422T083000
DTSTAMP:20260422T220835
CREATED:20230224T164625Z
LAST-MODIFIED:20230602T184548Z
UID:5193-1682146800-1682152200@baleville.com
SUMMARY:Men's Discipleship Group
DESCRIPTION:As men\, we need to let the truths of God’s word lead us to find our ultimate satisfaction in Christ.  When we do that\, we will experience true joy and fulfillment in other areas.  Join us for an in-depth study of God’s Word as we learn more about what it means to be followers of Jesus. Led by Pastor Brian.
URL:https://baleville.com/event/mens-discipleship-group-28-2023-04-22/
ATTACH;FMTTYPE=image/jpeg:https://baleville.com/wp-content/uploads/2022/01/mens-discipleship-group-e1641934865727.jpg
END:VEVENT
BEGIN:VEVENT
DTSTART;TZID=America/New_York:20230426T100000
DTEND;TZID=America/New_York:20230426T113000
DTSTAMP:20260422T220835
CREATED:20230224T162706Z
LAST-MODIFIED:20230224T164431Z
UID:5083-1682503200-1682508600@baleville.com
SUMMARY:Digging Deeper
DESCRIPTION:Every Wednesday morning at 10:00 am\, all are welcome to join Pastor Brian to further discuss the sermon from Sunday morning.  Please bring your thoughts and questions as we apply truths from God’s word to our everyday lives.  Our hope is that we are able to encourage one another and end our time praying for various needs within our church family.
URL:https://baleville.com/event/digging-deeper-46-2023-04-26/
ATTACH;FMTTYPE=image/jpeg:https://baleville.com/wp-content/uploads/2022/01/digging-deeper-2-e1641944538635.jpg
END:VEVENT
BEGIN:VEVENT
DTSTART;TZID=America/New_York:20230428T183000
DTEND;TZID=America/New_York:20230428T200000
DTSTAMP:20260422T220835
CREATED:20230224T163308Z
LAST-MODIFIED:20230224T163308Z
UID:5183-1682706600-1682712000@baleville.com
SUMMARY:Kidz Club
DESCRIPTION:Our goal at Kidz Club is to help children grow in their knowledge of God and his Word.  We do that through Bible memory\, active games\, a group lesson\, and songs.  All kids ages Kindergarten – 6th grade are welcome!
URL:https://baleville.com/event/kidz-club-15-2023-04-28/
ATTACH;FMTTYPE=image/png:https://baleville.com/wp-content/uploads/2022/12/kidz-club3-e1670435304965.png
END:VEVENT
BEGIN:VEVENT
DTSTART;TZID=America/New_York:20230429T070000
DTEND;TZID=America/New_York:20230429T083000
DTSTAMP:20260422T220835
CREATED:20230224T164625Z
LAST-MODIFIED:20230602T184550Z
UID:5194-1682751600-1682757000@baleville.com
SUMMARY:Men's Discipleship Group
DESCRIPTION:As men\, we need to let the truths of God’s word lead us to find our ultimate satisfaction in Christ.  When we do that\, we will experience true joy and fulfillment in other areas.  Join us for an in-depth study of God’s Word as we learn more about what it means to be followers of Jesus. Led by Pastor Brian.
URL:https://baleville.com/event/mens-discipleship-group-28-2023-04-29/
ATTACH;FMTTYPE=image/jpeg:https://baleville.com/wp-content/uploads/2022/01/mens-discipleship-group-e1641934865727.jpg
END:VEVENT
END:VCALENDAR