BEGIN:VCALENDAR
VERSION:2.0
PRODID:-//Baleville Congregational Christian Church - ECPv6.15.20//NONSGML v1.0//EN
CALSCALE:GREGORIAN
METHOD:PUBLISH
X-ORIGINAL-URL:https://baleville.com
X-WR-CALDESC:Events for Baleville Congregational Christian Church
REFRESH-INTERVAL;VALUE=DURATION:PT1H
X-Robots-Tag:noindex
X-PUBLISHED-TTL:PT1H
BEGIN:VTIMEZONE
TZID:America/New_York
BEGIN:DAYLIGHT
TZOFFSETFROM:-0500
TZOFFSETTO:-0400
TZNAME:EDT
DTSTART:20220313T070000
END:DAYLIGHT
BEGIN:STANDARD
TZOFFSETFROM:-0400
TZOFFSETTO:-0500
TZNAME:EST
DTSTART:20221106T060000
END:STANDARD
BEGIN:DAYLIGHT
TZOFFSETFROM:-0500
TZOFFSETTO:-0400
TZNAME:EDT
DTSTART:20230312T070000
END:DAYLIGHT
BEGIN:STANDARD
TZOFFSETFROM:-0400
TZOFFSETTO:-0500
TZNAME:EST
DTSTART:20231105T060000
END:STANDARD
BEGIN:DAYLIGHT
TZOFFSETFROM:-0500
TZOFFSETTO:-0400
TZNAME:EDT
DTSTART:20240310T070000
END:DAYLIGHT
BEGIN:STANDARD
TZOFFSETFROM:-0400
TZOFFSETTO:-0500
TZNAME:EST
DTSTART:20241103T060000
END:STANDARD
END:VTIMEZONE
BEGIN:VEVENT
DTSTART;TZID=America/New_York:20230104T100000
DTEND;TZID=America/New_York:20230104T110000
DTSTAMP:20260424T001938
CREATED:20221207T181753Z
LAST-MODIFIED:20221207T181756Z
UID:4897-1672826400-1672830000@baleville.com
SUMMARY:Digging Deeper
DESCRIPTION:Every Wednesday morning at 10:00 am\, all are welcome to join Pastor Brian to further discuss the sermon from Sunday morning or any other thoughts/questions you might have.  We will apply truths from God’s word to our everyday lives\, encourage one another\, and end our time praying for various needs within our church family.
URL:https://baleville.com/event/digging-deeper-42/
ATTACH;FMTTYPE=image/jpeg:https://baleville.com/wp-content/uploads/2022/01/digging-deeper-2-e1641944538635.jpg
END:VEVENT
BEGIN:VEVENT
DTSTART;TZID=America/New_York:20230106T183000
DTEND;TZID=America/New_York:20230106T200000
DTSTAMP:20260424T001938
CREATED:20221207T180004Z
LAST-MODIFIED:20221207T180140Z
UID:4874-1673029800-1673035200@baleville.com
SUMMARY:Kidz Club
DESCRIPTION:Kidz Club is a program for kids ages Kindergarten – 6th grade.  It meets each Friday from 6:30-8:00 pm at Baleville Church.\nOur desire is to help children grow in their knowledge of God and His Word. \nJoin us for a fun night of active games\, Bible memory\, and interactive lessons!
URL:https://baleville.com/event/kidz-club-10/
ATTACH;FMTTYPE=image/png:https://baleville.com/wp-content/uploads/2022/12/kidz-club3-e1670435304965.png
END:VEVENT
BEGIN:VEVENT
DTSTART;TZID=America/New_York:20230107T070000
DTEND;TZID=America/New_York:20230107T090000
DTSTAMP:20260424T001938
CREATED:20221207T182953Z
LAST-MODIFIED:20221207T182957Z
UID:4920-1673074800-1673082000@baleville.com
SUMMARY:Men's Discipleship Group
DESCRIPTION:As men\, we need to let the truths of God’s word lead us to find our ultimate satisfaction in Christ.  When we do that\, we will experience true joy and fulfillment in other areas.  Join us for an in-depth study of God’s Word as we learn more about what it means to be followers of Jesus. Led by Pastor Brian.
URL:https://baleville.com/event/mens-discipleship-group-24/
ATTACH;FMTTYPE=image/jpeg:https://baleville.com/wp-content/uploads/2022/01/mens-discipleship-group-e1641934865727.jpg
END:VEVENT
BEGIN:VEVENT
DTSTART;TZID=America/New_York:20230111T100000
DTEND;TZID=America/New_York:20230111T110000
DTSTAMP:20260424T001938
CREATED:20221207T181908Z
LAST-MODIFIED:20221207T181917Z
UID:4900-1673431200-1673434800@baleville.com
SUMMARY:Digging Deeper
DESCRIPTION:Every Wednesday morning at 10:00 am\, all are welcome to join Pastor Brian to further discuss the sermon from Sunday morning or any other thoughts/questions you might have.  We will apply truths from God’s word to our everyday lives\, encourage one another\, and end our time praying for various needs within our church family.
URL:https://baleville.com/event/digging-deeper-43/
ATTACH;FMTTYPE=image/jpeg:https://baleville.com/wp-content/uploads/2022/01/digging-deeper-2-e1641944538635.jpg
END:VEVENT
BEGIN:VEVENT
DTSTART;TZID=America/New_York:20230113T183000
DTEND;TZID=America/New_York:20230113T200000
DTSTAMP:20260424T001938
CREATED:20221207T180341Z
LAST-MODIFIED:20221207T180345Z
UID:4878-1673634600-1673640000@baleville.com
SUMMARY:Kidz Club
DESCRIPTION:Kidz Club is a program for kids ages Kindergarten – 6th grade.  It meets each Friday from 6:30-8:00 pm at Baleville Church.\nOur desire is to help children grow in their knowledge of God and His Word. \nJoin us for a fun night of active games\, Bible memory\, and interactive lessons!
URL:https://baleville.com/event/kidz-club-11/
ATTACH;FMTTYPE=image/png:https://baleville.com/wp-content/uploads/2022/12/kidz-club3-e1670435304965.png
END:VEVENT
BEGIN:VEVENT
DTSTART;TZID=America/New_York:20230114T070000
DTEND;TZID=America/New_York:20230114T090000
DTSTAMP:20260424T001938
CREATED:20230120T153054Z
LAST-MODIFIED:20230120T153059Z
UID:5000-1673679600-1673686800@baleville.com
SUMMARY:Men's Discipleship Group
DESCRIPTION: 
URL:https://baleville.com/event/mens-discipleship-group-25/
ATTACH;FMTTYPE=image/jpeg:https://baleville.com/wp-content/uploads/2022/01/mens-discipleship-group-e1641934865727.jpg
END:VEVENT
BEGIN:VEVENT
DTSTART;TZID=America/New_York:20230116T190000
DTEND;TZID=America/New_York:20230116T203000
DTSTAMP:20260424T001938
CREATED:20230120T154425Z
LAST-MODIFIED:20230120T154838Z
UID:5013-1673895600-1673901000@baleville.com
SUMMARY:Women's Bible Study
DESCRIPTION: 
URL:https://baleville.com/event/womens-bible-study-34/
ATTACH;FMTTYPE=image/jpeg:https://baleville.com/wp-content/uploads/2023/01/womens-bible-study2-e1674229339626.jpg
END:VEVENT
BEGIN:VEVENT
DTSTART;TZID=America/New_York:20230118T100000
DTEND;TZID=America/New_York:20230118T110000
DTSTAMP:20260424T001938
CREATED:20221207T182050Z
LAST-MODIFIED:20221207T182054Z
UID:4904-1674036000-1674039600@baleville.com
SUMMARY:Digging Deeper
DESCRIPTION:Every Wednesday morning at 10:00 am\, all are welcome to join Pastor Brian to further discuss the sermon from Sunday morning or any other thoughts/questions you might have.  We will apply truths from God’s word to our everyday lives\, encourage one another\, and end our time praying for various needs within our church family.
URL:https://baleville.com/event/digging-deeper-44/
ATTACH;FMTTYPE=image/jpeg:https://baleville.com/wp-content/uploads/2022/01/digging-deeper-2-e1641944538635.jpg
END:VEVENT
BEGIN:VEVENT
DTSTART;TZID=America/New_York:20230120T183000
DTEND;TZID=America/New_York:20230120T200000
DTSTAMP:20260424T001938
CREATED:20221207T180534Z
LAST-MODIFIED:20221207T180539Z
UID:4882-1674239400-1674244800@baleville.com
SUMMARY:Kidz Club
DESCRIPTION:Kidz Club is a program for kids ages Kindergarten – 6th grade.  It meets each Friday from 6:30-8:00 pm at Baleville Church. \nOur desire is to help children grow in their knowledge of God and His Word. \nJoin us for a fun night of active games\, Bible memory\, and interactive lessons!
URL:https://baleville.com/event/kidz-club-12/
ATTACH;FMTTYPE=image/png:https://baleville.com/wp-content/uploads/2022/12/kidz-club3-e1670435304965.png
END:VEVENT
BEGIN:VEVENT
DTSTART;TZID=America/New_York:20230121T070000
DTEND;TZID=America/New_York:20230121T090000
DTSTAMP:20260424T001938
CREATED:20230120T153534Z
LAST-MODIFIED:20230120T153540Z
UID:5005-1674284400-1674291600@baleville.com
SUMMARY:Men's Discipleship Group
DESCRIPTION: 
URL:https://baleville.com/event/mens-discipleship-group-26/
ATTACH;FMTTYPE=image/jpeg:https://baleville.com/wp-content/uploads/2022/01/mens-discipleship-group-e1641934865727.jpg
END:VEVENT
BEGIN:VEVENT
DTSTART;TZID=America/New_York:20230122T113000
DTEND;TZID=America/New_York:20230122T130000
DTSTAMP:20260424T001938
CREATED:20230120T155346Z
LAST-MODIFIED:20230120T155346Z
UID:5021-1674387000-1674392400@baleville.com
SUMMARY:Soup Sunday
DESCRIPTION: 
URL:https://baleville.com/event/soup-sunday-2/
ATTACH;FMTTYPE=image/jpeg:https://baleville.com/wp-content/uploads/2022/01/soup-e1641578046177.jpg
END:VEVENT
BEGIN:VEVENT
DTSTART;TZID=America/New_York:20230123T190000
DTEND;TZID=America/New_York:20230123T203000
DTSTAMP:20260424T001938
CREATED:20230120T154604Z
LAST-MODIFIED:20230120T154604Z
UID:5017-1674500400-1674505800@baleville.com
SUMMARY:Women's Bible Study
DESCRIPTION: 
URL:https://baleville.com/event/womens-bible-study-35/
ATTACH;FMTTYPE=image/jpeg:https://baleville.com/wp-content/uploads/2023/01/womens-bible-study2-e1674229339626.jpg
END:VEVENT
BEGIN:VEVENT
DTSTART;TZID=America/New_York:20230125T100000
DTEND;TZID=America/New_York:20230125T110000
DTSTAMP:20260424T001938
CREATED:20221207T182208Z
LAST-MODIFIED:20230120T153852Z
UID:4910-1674640800-1674644400@baleville.com
SUMMARY:Digging Deeper
DESCRIPTION:Every Wednesday morning at 10:00 am\, all are welcome to join Pastor Brian to further discuss the sermon from Sunday morning or any other thoughts/questions you might have.  We will apply truths from God’s word to our everyday lives\, encourage one another\, and end our time praying for various needs within our church family.
URL:https://baleville.com/event/digging-deeper-45/
ATTACH;FMTTYPE=image/jpeg:https://baleville.com/wp-content/uploads/2022/01/digging-deeper-2-e1641944538635.jpg
END:VEVENT
BEGIN:VEVENT
DTSTART;TZID=America/New_York:20230127T183000
DTEND;TZID=America/New_York:20230127T200000
DTSTAMP:20260424T001938
CREATED:20221207T180707Z
LAST-MODIFIED:20221207T180711Z
UID:4885-1674844200-1674849600@baleville.com
SUMMARY:Kidz Club
DESCRIPTION:Kidz Club is a program for kids ages Kindergarten – 6th grade.  It meets each Friday from 6:30-8:00 pm at Baleville Church. \nOur desire is to help children grow in their knowledge of God and His Word. \nJoin us for a fun night of active games\, Bible memory\, and interactive lessons!
URL:https://baleville.com/event/kidz-club-13/
ATTACH;FMTTYPE=image/png:https://baleville.com/wp-content/uploads/2022/12/kidz-club3-e1670435304965.png
END:VEVENT
BEGIN:VEVENT
DTSTART;TZID=America/New_York:20230128T070000
DTEND;TZID=America/New_York:20230128T090000
DTSTAMP:20260424T001938
CREATED:20230120T153710Z
LAST-MODIFIED:20230120T153710Z
UID:5010-1674889200-1674896400@baleville.com
SUMMARY:Men's Discipleship Group
DESCRIPTION: 
URL:https://baleville.com/event/mens-discipleship-group-27/
ATTACH;FMTTYPE=image/jpeg:https://baleville.com/wp-content/uploads/2022/01/mens-discipleship-group-e1641934865727.jpg
END:VEVENT
END:VCALENDAR