BEGIN:VCALENDAR
VERSION:2.0
PRODID:-//Baleville Congregational Christian Church - ECPv6.15.20//NONSGML v1.0//EN
CALSCALE:GREGORIAN
METHOD:PUBLISH
X-WR-CALNAME:Baleville Congregational Christian Church
X-ORIGINAL-URL:https://baleville.com
X-WR-CALDESC:Events for Baleville Congregational Christian Church
REFRESH-INTERVAL;VALUE=DURATION:PT1H
X-Robots-Tag:noindex
X-PUBLISHED-TTL:PT1H
BEGIN:VTIMEZONE
TZID:America/New_York
BEGIN:DAYLIGHT
TZOFFSETFROM:-0500
TZOFFSETTO:-0400
TZNAME:EDT
DTSTART:20220313T070000
END:DAYLIGHT
BEGIN:STANDARD
TZOFFSETFROM:-0400
TZOFFSETTO:-0500
TZNAME:EST
DTSTART:20221106T060000
END:STANDARD
BEGIN:DAYLIGHT
TZOFFSETFROM:-0500
TZOFFSETTO:-0400
TZNAME:EDT
DTSTART:20230312T070000
END:DAYLIGHT
BEGIN:STANDARD
TZOFFSETFROM:-0400
TZOFFSETTO:-0500
TZNAME:EST
DTSTART:20231105T060000
END:STANDARD
BEGIN:DAYLIGHT
TZOFFSETFROM:-0500
TZOFFSETTO:-0400
TZNAME:EDT
DTSTART:20240310T070000
END:DAYLIGHT
BEGIN:STANDARD
TZOFFSETFROM:-0400
TZOFFSETTO:-0500
TZNAME:EST
DTSTART:20241103T060000
END:STANDARD
BEGIN:DAYLIGHT
TZOFFSETFROM:-0500
TZOFFSETTO:-0400
TZNAME:EDT
DTSTART:20250309T070000
END:DAYLIGHT
BEGIN:STANDARD
TZOFFSETFROM:-0400
TZOFFSETTO:-0500
TZNAME:EST
DTSTART:20251102T060000
END:STANDARD
BEGIN:DAYLIGHT
TZOFFSETFROM:-0500
TZOFFSETTO:-0400
TZNAME:EDT
DTSTART:20260308T070000
END:DAYLIGHT
BEGIN:STANDARD
TZOFFSETFROM:-0400
TZOFFSETTO:-0500
TZNAME:EST
DTSTART:20261101T060000
END:STANDARD
END:VTIMEZONE
BEGIN:VEVENT
DTSTART;TZID=America/New_York:20231229T183000
DTEND;TZID=America/New_York:20231229T200000
DTSTAMP:20260420T023702
CREATED:20231002T183439Z
LAST-MODIFIED:20231002T185212Z
UID:5952-1703874600-1703880000@baleville.com
SUMMARY:Kidz Club
DESCRIPTION:Kindergarten-6th Grade \nGroup Lesson\, Bible Memorization\, Active Games
URL:https://baleville.com/event/kidz-club-16-2023-12-29/
CATEGORIES:Youth
ATTACH;FMTTYPE=image/jpeg:https://baleville.com/wp-content/uploads/2023/10/Kidz-Club-Bulletin-5.5-x-8.5-in-400-x-267-px.jpg
END:VEVENT
BEGIN:VEVENT
DTSTART;TZID=America/New_York:20240105T183000
DTEND;TZID=America/New_York:20240105T200000
DTSTAMP:20260420T023702
CREATED:20231002T183439Z
LAST-MODIFIED:20231002T185212Z
UID:5953-1704479400-1704484800@baleville.com
SUMMARY:Kidz Club
DESCRIPTION:Kindergarten-6th Grade \nGroup Lesson\, Bible Memorization\, Active Games
URL:https://baleville.com/event/kidz-club-16-2024-01-05/
CATEGORIES:Youth
ATTACH;FMTTYPE=image/jpeg:https://baleville.com/wp-content/uploads/2023/10/Kidz-Club-Bulletin-5.5-x-8.5-in-400-x-267-px.jpg
END:VEVENT
BEGIN:VEVENT
DTSTART;TZID=America/New_York:20240112T183000
DTEND;TZID=America/New_York:20240112T200000
DTSTAMP:20260420T023702
CREATED:20231002T183439Z
LAST-MODIFIED:20231002T185213Z
UID:5954-1705084200-1705089600@baleville.com
SUMMARY:Kidz Club
DESCRIPTION:Kindergarten-6th Grade \nGroup Lesson\, Bible Memorization\, Active Games
URL:https://baleville.com/event/kidz-club-16-2024-01-12/
CATEGORIES:Youth
ATTACH;FMTTYPE=image/jpeg:https://baleville.com/wp-content/uploads/2023/10/Kidz-Club-Bulletin-5.5-x-8.5-in-400-x-267-px.jpg
END:VEVENT
BEGIN:VEVENT
DTSTART;TZID=America/New_York:20240119T183000
DTEND;TZID=America/New_York:20240119T200000
DTSTAMP:20260420T023702
CREATED:20231002T183439Z
LAST-MODIFIED:20231002T185214Z
UID:5955-1705689000-1705694400@baleville.com
SUMMARY:Kidz Club
DESCRIPTION:Kindergarten-6th Grade \nGroup Lesson\, Bible Memorization\, Active Games
URL:https://baleville.com/event/kidz-club-16-2024-01-19/
CATEGORIES:Youth
ATTACH;FMTTYPE=image/jpeg:https://baleville.com/wp-content/uploads/2023/10/Kidz-Club-Bulletin-5.5-x-8.5-in-400-x-267-px.jpg
END:VEVENT
BEGIN:VEVENT
DTSTART;TZID=America/New_York:20240126T183000
DTEND;TZID=America/New_York:20240126T200000
DTSTAMP:20260420T023702
CREATED:20231002T183439Z
LAST-MODIFIED:20231002T185214Z
UID:5956-1706293800-1706299200@baleville.com
SUMMARY:Kidz Club
DESCRIPTION:Kindergarten-6th Grade \nGroup Lesson\, Bible Memorization\, Active Games
URL:https://baleville.com/event/kidz-club-16-2024-01-26/
CATEGORIES:Youth
ATTACH;FMTTYPE=image/jpeg:https://baleville.com/wp-content/uploads/2023/10/Kidz-Club-Bulletin-5.5-x-8.5-in-400-x-267-px.jpg
END:VEVENT
BEGIN:VEVENT
DTSTART;TZID=America/New_York:20240202T183000
DTEND;TZID=America/New_York:20240202T200000
DTSTAMP:20260420T023702
CREATED:20231002T183439Z
LAST-MODIFIED:20231002T185214Z
UID:5957-1706898600-1706904000@baleville.com
SUMMARY:Kidz Club
DESCRIPTION:Kindergarten-6th Grade \nGroup Lesson\, Bible Memorization\, Active Games
URL:https://baleville.com/event/kidz-club-16-2024-02-02/
CATEGORIES:Youth
ATTACH;FMTTYPE=image/jpeg:https://baleville.com/wp-content/uploads/2023/10/Kidz-Club-Bulletin-5.5-x-8.5-in-400-x-267-px.jpg
END:VEVENT
BEGIN:VEVENT
DTSTART;TZID=America/New_York:20240209T183000
DTEND;TZID=America/New_York:20240209T200000
DTSTAMP:20260420T023702
CREATED:20231002T183439Z
LAST-MODIFIED:20231002T185215Z
UID:5958-1707503400-1707508800@baleville.com
SUMMARY:Kidz Club
DESCRIPTION:Kindergarten-6th Grade \nGroup Lesson\, Bible Memorization\, Active Games
URL:https://baleville.com/event/kidz-club-16-2024-02-09/
CATEGORIES:Youth
ATTACH;FMTTYPE=image/jpeg:https://baleville.com/wp-content/uploads/2023/10/Kidz-Club-Bulletin-5.5-x-8.5-in-400-x-267-px.jpg
END:VEVENT
BEGIN:VEVENT
DTSTART;TZID=America/New_York:20240216T183000
DTEND;TZID=America/New_York:20240216T200000
DTSTAMP:20260420T023702
CREATED:20231002T183439Z
LAST-MODIFIED:20231002T185215Z
UID:5959-1708108200-1708113600@baleville.com
SUMMARY:Kidz Club
DESCRIPTION:Kindergarten-6th Grade \nGroup Lesson\, Bible Memorization\, Active Games
URL:https://baleville.com/event/kidz-club-16-2024-02-16/
CATEGORIES:Youth
ATTACH;FMTTYPE=image/jpeg:https://baleville.com/wp-content/uploads/2023/10/Kidz-Club-Bulletin-5.5-x-8.5-in-400-x-267-px.jpg
END:VEVENT
BEGIN:VEVENT
DTSTART;TZID=America/New_York:20240223T183000
DTEND;TZID=America/New_York:20240223T200000
DTSTAMP:20260420T023702
CREATED:20231002T183439Z
LAST-MODIFIED:20231002T185216Z
UID:5960-1708713000-1708718400@baleville.com
SUMMARY:Kidz Club
DESCRIPTION:Kindergarten-6th Grade \nGroup Lesson\, Bible Memorization\, Active Games
URL:https://baleville.com/event/kidz-club-16-2024-02-23/
CATEGORIES:Youth
ATTACH;FMTTYPE=image/jpeg:https://baleville.com/wp-content/uploads/2023/10/Kidz-Club-Bulletin-5.5-x-8.5-in-400-x-267-px.jpg
END:VEVENT
BEGIN:VEVENT
DTSTART;TZID=America/New_York:20240301T183000
DTEND;TZID=America/New_York:20240301T200000
DTSTAMP:20260420T023702
CREATED:20231002T183439Z
LAST-MODIFIED:20231002T185217Z
UID:5961-1709317800-1709323200@baleville.com
SUMMARY:Kidz Club
DESCRIPTION:Kindergarten-6th Grade \nGroup Lesson\, Bible Memorization\, Active Games
URL:https://baleville.com/event/kidz-club-16-2024-03-01/
CATEGORIES:Youth
ATTACH;FMTTYPE=image/jpeg:https://baleville.com/wp-content/uploads/2023/10/Kidz-Club-Bulletin-5.5-x-8.5-in-400-x-267-px.jpg
END:VEVENT
BEGIN:VEVENT
DTSTART;TZID=America/New_York:20240308T183000
DTEND;TZID=America/New_York:20240308T200000
DTSTAMP:20260420T023702
CREATED:20231002T183439Z
LAST-MODIFIED:20231002T185218Z
UID:5962-1709922600-1709928000@baleville.com
SUMMARY:Kidz Club
DESCRIPTION:Kindergarten-6th Grade \nGroup Lesson\, Bible Memorization\, Active Games
URL:https://baleville.com/event/kidz-club-16-2024-03-08/
CATEGORIES:Youth
ATTACH;FMTTYPE=image/jpeg:https://baleville.com/wp-content/uploads/2023/10/Kidz-Club-Bulletin-5.5-x-8.5-in-400-x-267-px.jpg
END:VEVENT
BEGIN:VEVENT
DTSTART;TZID=America/New_York:20240315T183000
DTEND;TZID=America/New_York:20240315T200000
DTSTAMP:20260420T023702
CREATED:20231002T183439Z
LAST-MODIFIED:20231002T185218Z
UID:5963-1710527400-1710532800@baleville.com
SUMMARY:Kidz Club
DESCRIPTION:Kindergarten-6th Grade \nGroup Lesson\, Bible Memorization\, Active Games
URL:https://baleville.com/event/kidz-club-16-2024-03-15/
CATEGORIES:Youth
ATTACH;FMTTYPE=image/jpeg:https://baleville.com/wp-content/uploads/2023/10/Kidz-Club-Bulletin-5.5-x-8.5-in-400-x-267-px.jpg
END:VEVENT
BEGIN:VEVENT
DTSTART;TZID=America/New_York:20240322T183000
DTEND;TZID=America/New_York:20240322T200000
DTSTAMP:20260420T023702
CREATED:20231002T183439Z
LAST-MODIFIED:20231002T185219Z
UID:5964-1711132200-1711137600@baleville.com
SUMMARY:Kidz Club
DESCRIPTION:Kindergarten-6th Grade \nGroup Lesson\, Bible Memorization\, Active Games
URL:https://baleville.com/event/kidz-club-16-2024-03-22/
CATEGORIES:Youth
ATTACH;FMTTYPE=image/jpeg:https://baleville.com/wp-content/uploads/2023/10/Kidz-Club-Bulletin-5.5-x-8.5-in-400-x-267-px.jpg
END:VEVENT
BEGIN:VEVENT
DTSTART;TZID=America/New_York:20240329T183000
DTEND;TZID=America/New_York:20240329T200000
DTSTAMP:20260420T023702
CREATED:20231002T183439Z
LAST-MODIFIED:20231002T185219Z
UID:5965-1711737000-1711742400@baleville.com
SUMMARY:Kidz Club
DESCRIPTION:Kindergarten-6th Grade \nGroup Lesson\, Bible Memorization\, Active Games
URL:https://baleville.com/event/kidz-club-16-2024-03-29/
CATEGORIES:Youth
ATTACH;FMTTYPE=image/jpeg:https://baleville.com/wp-content/uploads/2023/10/Kidz-Club-Bulletin-5.5-x-8.5-in-400-x-267-px.jpg
END:VEVENT
BEGIN:VEVENT
DTSTART;TZID=America/New_York:20240412T183000
DTEND;TZID=America/New_York:20240412T200000
DTSTAMP:20260420T023702
CREATED:20231002T183439Z
LAST-MODIFIED:20231002T185221Z
UID:5967-1712946600-1712952000@baleville.com
SUMMARY:Kidz Club
DESCRIPTION:Kindergarten-6th Grade \nGroup Lesson\, Bible Memorization\, Active Games
URL:https://baleville.com/event/kidz-club-16-2024-04-12/
CATEGORIES:Youth
ATTACH;FMTTYPE=image/jpeg:https://baleville.com/wp-content/uploads/2023/10/Kidz-Club-Bulletin-5.5-x-8.5-in-400-x-267-px.jpg
END:VEVENT
BEGIN:VEVENT
DTSTART;TZID=America/New_York:20240419T183000
DTEND;TZID=America/New_York:20240419T200000
DTSTAMP:20260420T023702
CREATED:20231002T183439Z
LAST-MODIFIED:20231002T185221Z
UID:5968-1713551400-1713556800@baleville.com
SUMMARY:Kidz Club
DESCRIPTION:Kindergarten-6th Grade \nGroup Lesson\, Bible Memorization\, Active Games
URL:https://baleville.com/event/kidz-club-16-2024-04-19/
CATEGORIES:Youth
ATTACH;FMTTYPE=image/jpeg:https://baleville.com/wp-content/uploads/2023/10/Kidz-Club-Bulletin-5.5-x-8.5-in-400-x-267-px.jpg
END:VEVENT
BEGIN:VEVENT
DTSTART;TZID=America/New_York:20240426T183000
DTEND;TZID=America/New_York:20240426T200000
DTSTAMP:20260420T023702
CREATED:20231002T183439Z
LAST-MODIFIED:20231002T185221Z
UID:5969-1714156200-1714161600@baleville.com
SUMMARY:Kidz Club
DESCRIPTION:Kindergarten-6th Grade \nGroup Lesson\, Bible Memorization\, Active Games
URL:https://baleville.com/event/kidz-club-16-2024-04-26/
CATEGORIES:Youth
ATTACH;FMTTYPE=image/jpeg:https://baleville.com/wp-content/uploads/2023/10/Kidz-Club-Bulletin-5.5-x-8.5-in-400-x-267-px.jpg
END:VEVENT
BEGIN:VEVENT
DTSTART;TZID=America/New_York:20240503T183000
DTEND;TZID=America/New_York:20240503T200000
DTSTAMP:20260420T023702
CREATED:20231002T183439Z
LAST-MODIFIED:20231002T185222Z
UID:5970-1714761000-1714766400@baleville.com
SUMMARY:Kidz Club
DESCRIPTION:Kindergarten-6th Grade \nGroup Lesson\, Bible Memorization\, Active Games
URL:https://baleville.com/event/kidz-club-16-2024-05-03/
CATEGORIES:Youth
ATTACH;FMTTYPE=image/jpeg:https://baleville.com/wp-content/uploads/2023/10/Kidz-Club-Bulletin-5.5-x-8.5-in-400-x-267-px.jpg
END:VEVENT
BEGIN:VEVENT
DTSTART;TZID=America/New_York:20240510T183000
DTEND;TZID=America/New_York:20240510T200000
DTSTAMP:20260420T023702
CREATED:20231002T183439Z
LAST-MODIFIED:20231002T185226Z
UID:5971-1715365800-1715371200@baleville.com
SUMMARY:Kidz Club
DESCRIPTION:Kindergarten-6th Grade \nGroup Lesson\, Bible Memorization\, Active Games
URL:https://baleville.com/event/kidz-club-16-2024-05-10/
CATEGORIES:Youth
ATTACH;FMTTYPE=image/jpeg:https://baleville.com/wp-content/uploads/2023/10/Kidz-Club-Bulletin-5.5-x-8.5-in-400-x-267-px.jpg
END:VEVENT
BEGIN:VEVENT
DTSTART;TZID=America/New_York:20240517T183000
DTEND;TZID=America/New_York:20240517T200000
DTSTAMP:20260420T023702
CREATED:20231002T183439Z
LAST-MODIFIED:20231002T185227Z
UID:5972-1715970600-1715976000@baleville.com
SUMMARY:Kidz Club
DESCRIPTION:Kindergarten-6th Grade \nGroup Lesson\, Bible Memorization\, Active Games
URL:https://baleville.com/event/kidz-club-16-2024-05-17/
CATEGORIES:Youth
ATTACH;FMTTYPE=image/jpeg:https://baleville.com/wp-content/uploads/2023/10/Kidz-Club-Bulletin-5.5-x-8.5-in-400-x-267-px.jpg
END:VEVENT
BEGIN:VEVENT
DTSTART;TZID=America/New_York:20240524T183000
DTEND;TZID=America/New_York:20240524T200000
DTSTAMP:20260420T023702
CREATED:20231002T183439Z
LAST-MODIFIED:20240606T172031Z
UID:5973-1716575400-1716580800@baleville.com
SUMMARY:Kidz Club
DESCRIPTION:Kindergarten-6th Grade \nGroup Lesson\, Bible Memorization\, Active Games
URL:https://baleville.com/event/kidz-club-16-2024-05-24/
CATEGORIES:Youth
ATTACH;FMTTYPE=image/jpeg:https://baleville.com/wp-content/uploads/2023/10/Kidz-Club-Bulletin-5.5-x-8.5-in-400-x-267-px.jpg
END:VEVENT
BEGIN:VEVENT
DTSTART;TZID=America/New_York:20250124T183000
DTEND;TZID=America/New_York:20250124T200000
DTSTAMP:20260420T023702
CREATED:20231002T183439Z
LAST-MODIFIED:20231002T185303Z
UID:6008-1737743400-1737748800@baleville.com
SUMMARY:Kidz Club
DESCRIPTION:Kindergarten-6th Grade \nGroup Lesson\, Bible Memorization\, Active Games
URL:https://baleville.com/event/kidz-club-16-2025-01-24/
CATEGORIES:Youth
ATTACH;FMTTYPE=image/jpeg:https://baleville.com/wp-content/uploads/2023/10/Kidz-Club-Bulletin-5.5-x-8.5-in-400-x-267-px.jpg
END:VEVENT
BEGIN:VEVENT
DTSTART;TZID=America/New_York:20250131T183000
DTEND;TZID=America/New_York:20250131T200000
DTSTAMP:20260420T023702
CREATED:20231002T183439Z
LAST-MODIFIED:20231002T185304Z
UID:6009-1738348200-1738353600@baleville.com
SUMMARY:Kidz Club
DESCRIPTION:Kindergarten-6th Grade \nGroup Lesson\, Bible Memorization\, Active Games
URL:https://baleville.com/event/kidz-club-16-2025-01-31/
CATEGORIES:Youth
ATTACH;FMTTYPE=image/jpeg:https://baleville.com/wp-content/uploads/2023/10/Kidz-Club-Bulletin-5.5-x-8.5-in-400-x-267-px.jpg
END:VEVENT
BEGIN:VEVENT
DTSTART;TZID=America/New_York:20250207T183000
DTEND;TZID=America/New_York:20250207T200000
DTSTAMP:20260420T023702
CREATED:20231002T183439Z
LAST-MODIFIED:20231002T185304Z
UID:6010-1738953000-1738958400@baleville.com
SUMMARY:Kidz Club
DESCRIPTION:Kindergarten-6th Grade \nGroup Lesson\, Bible Memorization\, Active Games
URL:https://baleville.com/event/kidz-club-16-2025-02-07/
CATEGORIES:Youth
ATTACH;FMTTYPE=image/jpeg:https://baleville.com/wp-content/uploads/2023/10/Kidz-Club-Bulletin-5.5-x-8.5-in-400-x-267-px.jpg
END:VEVENT
BEGIN:VEVENT
DTSTART;TZID=America/New_York:20250214T183000
DTEND;TZID=America/New_York:20250214T200000
DTSTAMP:20260420T023702
CREATED:20231002T183439Z
LAST-MODIFIED:20231002T185308Z
UID:6011-1739557800-1739563200@baleville.com
SUMMARY:Kidz Club
DESCRIPTION:Kindergarten-6th Grade \nGroup Lesson\, Bible Memorization\, Active Games
URL:https://baleville.com/event/kidz-club-16-2025-02-14/
CATEGORIES:Youth
ATTACH;FMTTYPE=image/jpeg:https://baleville.com/wp-content/uploads/2023/10/Kidz-Club-Bulletin-5.5-x-8.5-in-400-x-267-px.jpg
END:VEVENT
BEGIN:VEVENT
DTSTART;TZID=America/New_York:20250221T183000
DTEND;TZID=America/New_York:20250221T200000
DTSTAMP:20260420T023702
CREATED:20231002T183439Z
LAST-MODIFIED:20231002T185309Z
UID:6012-1740162600-1740168000@baleville.com
SUMMARY:Kidz Club
DESCRIPTION:Kindergarten-6th Grade \nGroup Lesson\, Bible Memorization\, Active Games
URL:https://baleville.com/event/kidz-club-16-2025-02-21/
CATEGORIES:Youth
ATTACH;FMTTYPE=image/jpeg:https://baleville.com/wp-content/uploads/2023/10/Kidz-Club-Bulletin-5.5-x-8.5-in-400-x-267-px.jpg
END:VEVENT
BEGIN:VEVENT
DTSTART;TZID=America/New_York:20250228T183000
DTEND;TZID=America/New_York:20250228T200000
DTSTAMP:20260420T023702
CREATED:20231002T183439Z
LAST-MODIFIED:20231002T185309Z
UID:6013-1740767400-1740772800@baleville.com
SUMMARY:Kidz Club
DESCRIPTION:Kindergarten-6th Grade \nGroup Lesson\, Bible Memorization\, Active Games
URL:https://baleville.com/event/kidz-club-16-2025-02-28/
CATEGORIES:Youth
ATTACH;FMTTYPE=image/jpeg:https://baleville.com/wp-content/uploads/2023/10/Kidz-Club-Bulletin-5.5-x-8.5-in-400-x-267-px.jpg
END:VEVENT
BEGIN:VEVENT
DTSTART;TZID=America/New_York:20250307T183000
DTEND;TZID=America/New_York:20250307T200000
DTSTAMP:20260420T023702
CREATED:20231002T183439Z
LAST-MODIFIED:20231002T185310Z
UID:6014-1741372200-1741377600@baleville.com
SUMMARY:Kidz Club
DESCRIPTION:Kindergarten-6th Grade \nGroup Lesson\, Bible Memorization\, Active Games
URL:https://baleville.com/event/kidz-club-16-2025-03-07/
CATEGORIES:Youth
ATTACH;FMTTYPE=image/jpeg:https://baleville.com/wp-content/uploads/2023/10/Kidz-Club-Bulletin-5.5-x-8.5-in-400-x-267-px.jpg
END:VEVENT
BEGIN:VEVENT
DTSTART;TZID=America/New_York:20250314T183000
DTEND;TZID=America/New_York:20250314T200000
DTSTAMP:20260420T023702
CREATED:20231002T183439Z
LAST-MODIFIED:20231002T185310Z
UID:6015-1741977000-1741982400@baleville.com
SUMMARY:Kidz Club
DESCRIPTION:Kindergarten-6th Grade \nGroup Lesson\, Bible Memorization\, Active Games
URL:https://baleville.com/event/kidz-club-16-2025-03-14/
CATEGORIES:Youth
ATTACH;FMTTYPE=image/jpeg:https://baleville.com/wp-content/uploads/2023/10/Kidz-Club-Bulletin-5.5-x-8.5-in-400-x-267-px.jpg
END:VEVENT
BEGIN:VEVENT
DTSTART;TZID=America/New_York:20250321T183000
DTEND;TZID=America/New_York:20250321T200000
DTSTAMP:20260420T023702
CREATED:20231002T183439Z
LAST-MODIFIED:20231002T185311Z
UID:6016-1742581800-1742587200@baleville.com
SUMMARY:Kidz Club
DESCRIPTION:Kindergarten-6th Grade \nGroup Lesson\, Bible Memorization\, Active Games
URL:https://baleville.com/event/kidz-club-16-2025-03-21/
CATEGORIES:Youth
ATTACH;FMTTYPE=image/jpeg:https://baleville.com/wp-content/uploads/2023/10/Kidz-Club-Bulletin-5.5-x-8.5-in-400-x-267-px.jpg
END:VEVENT
END:VCALENDAR