BEGIN:VCALENDAR
VERSION:2.0
PRODID:-//Baleville Congregational Christian Church - ECPv6.15.20//NONSGML v1.0//EN
CALSCALE:GREGORIAN
METHOD:PUBLISH
X-WR-CALNAME:Baleville Congregational Christian Church
X-ORIGINAL-URL:https://baleville.com
X-WR-CALDESC:Events for Baleville Congregational Christian Church
REFRESH-INTERVAL;VALUE=DURATION:PT1H
X-Robots-Tag:noindex
X-PUBLISHED-TTL:PT1H
BEGIN:VTIMEZONE
TZID:America/New_York
BEGIN:DAYLIGHT
TZOFFSETFROM:-0500
TZOFFSETTO:-0400
TZNAME:EDT
DTSTART:20220313T070000
END:DAYLIGHT
BEGIN:STANDARD
TZOFFSETFROM:-0400
TZOFFSETTO:-0500
TZNAME:EST
DTSTART:20221106T060000
END:STANDARD
BEGIN:DAYLIGHT
TZOFFSETFROM:-0500
TZOFFSETTO:-0400
TZNAME:EDT
DTSTART:20230312T070000
END:DAYLIGHT
BEGIN:STANDARD
TZOFFSETFROM:-0400
TZOFFSETTO:-0500
TZNAME:EST
DTSTART:20231105T060000
END:STANDARD
BEGIN:DAYLIGHT
TZOFFSETFROM:-0500
TZOFFSETTO:-0400
TZNAME:EDT
DTSTART:20240310T070000
END:DAYLIGHT
BEGIN:STANDARD
TZOFFSETFROM:-0400
TZOFFSETTO:-0500
TZNAME:EST
DTSTART:20241103T060000
END:STANDARD
END:VTIMEZONE
BEGIN:VEVENT
DTSTART;TZID=America/New_York:20231224T100000
DTEND;TZID=America/New_York:20231224T230000
DTSTAMP:20260420T114343
CREATED:20231205T190856Z
LAST-MODIFIED:20231205T191123Z
UID:6919-1703412000-1703458800@baleville.com
SUMMARY:Christmas Eve Service
DESCRIPTION:10:00am Regular Worship Area
URL:https://baleville.com/event/christmas-eve-services/
ATTACH;FMTTYPE=image/jpeg:https://baleville.com/wp-content/uploads/2022/12/christmas-eve-small-e1670439286341.jpg
END:VEVENT
BEGIN:VEVENT
DTSTART;TZID=America/New_York:20231224T170000
DTEND;TZID=America/New_York:20231224T180000
DTSTAMP:20260420T114343
CREATED:20231205T191314Z
LAST-MODIFIED:20231205T191318Z
UID:6924-1703437200-1703440800@baleville.com
SUMMARY:Christmas Eve Service
DESCRIPTION:5:00pm Service in Chapel
URL:https://baleville.com/event/christmas-eve-service-3/
ATTACH;FMTTYPE=image/jpeg:https://baleville.com/wp-content/uploads/2022/12/christmas-eve-small-e1670439286341.jpg
END:VEVENT
END:VCALENDAR