BEGIN:VCALENDAR
VERSION:2.0
PRODID:-//Baleville Congregational Christian Church - ECPv6.15.20//NONSGML v1.0//EN
CALSCALE:GREGORIAN
METHOD:PUBLISH
X-WR-CALNAME:Baleville Congregational Christian Church
X-ORIGINAL-URL:https://baleville.com
X-WR-CALDESC:Events for Baleville Congregational Christian Church
REFRESH-INTERVAL;VALUE=DURATION:PT1H
X-Robots-Tag:noindex
X-PUBLISHED-TTL:PT1H
BEGIN:VTIMEZONE
TZID:America/New_York
BEGIN:DAYLIGHT
TZOFFSETFROM:-0500
TZOFFSETTO:-0400
TZNAME:EDT
DTSTART:20220313T070000
END:DAYLIGHT
BEGIN:STANDARD
TZOFFSETFROM:-0400
TZOFFSETTO:-0500
TZNAME:EST
DTSTART:20221106T060000
END:STANDARD
BEGIN:DAYLIGHT
TZOFFSETFROM:-0500
TZOFFSETTO:-0400
TZNAME:EDT
DTSTART:20230312T070000
END:DAYLIGHT
BEGIN:STANDARD
TZOFFSETFROM:-0400
TZOFFSETTO:-0500
TZNAME:EST
DTSTART:20231105T060000
END:STANDARD
BEGIN:DAYLIGHT
TZOFFSETFROM:-0500
TZOFFSETTO:-0400
TZNAME:EDT
DTSTART:20240310T070000
END:DAYLIGHT
BEGIN:STANDARD
TZOFFSETFROM:-0400
TZOFFSETTO:-0500
TZNAME:EST
DTSTART:20241103T060000
END:STANDARD
END:VTIMEZONE
BEGIN:VEVENT
DTSTART;TZID=America/New_York:20230203T183000
DTEND;TZID=America/New_York:20230203T200000
DTSTAMP:20260423T180714
CREATED:20221207T181007Z
LAST-MODIFIED:20221207T181011Z
UID:4890-1675449000-1675454400@baleville.com
SUMMARY:Kidz Club
DESCRIPTION:Kidz Club is a program for kids ages Kindergarten – 6th grade.  It meets each Friday from 6:30-8:00 pm at Baleville Church. \nOur desire is to help children grow in their knowledge of God and His Word. \nJoin us for a fun night of active games\, Bible memory\, and interactive lessons!
URL:https://baleville.com/event/kidz-club-14/
ATTACH;FMTTYPE=image/png:https://baleville.com/wp-content/uploads/2022/12/kidz-club3-e1670435304965.png
END:VEVENT
END:VCALENDAR